BEGIN:VCALENDAR
VERSION:2.0
PRODID:-//Eléa Golf Club - ECPv6.13.2.1//NONSGML v1.0//EN
CALSCALE:GREGORIAN
METHOD:PUBLISH
X-ORIGINAL-URL:https://eleaestate.com
X-WR-CALDESC:Events for Eléa Golf Club
REFRESH-INTERVAL;VALUE=DURATION:PT1H
X-Robots-Tag:noindex
X-PUBLISHED-TTL:PT1H
BEGIN:VTIMEZONE
TZID:Europe/Athens
BEGIN:DAYLIGHT
TZOFFSETFROM:+0200
TZOFFSETTO:+0300
TZNAME:EEST
DTSTART:20260329T010000
END:DAYLIGHT
BEGIN:STANDARD
TZOFFSETFROM:+0300
TZOFFSETTO:+0200
TZNAME:EET
DTSTART:20261025T010000
END:STANDARD
END:VTIMEZONE
BEGIN:VEVENT
DTSTART;TZID=Europe/Athens:20260121T080000
DTEND;TZID=Europe/Athens:20260228T220000
DTSTAMP:20260423T024936
CREATED:20260121T165205Z
LAST-MODIFIED:20260128T063035Z
UID:8277-1768982400-1772316000@eleaestate.com
SUMMARY:Winter Golf Special
DESCRIPTION:Enjoy the best of winter Eléa Golf Club with our exclusive Winter Special Offers! \nA round of 18 holes only for €70 \nTwilight round after 12:30 pm for €50 \nTerms & Conditions apply \nApplicable for January & February 2026 \nAvailable only for members of the Cyprus Golf Federation \nBook Your Winter Escape Today! \nSecure your tee time now using the link below:https://eu.golfmanager.com/eleagolf \n📧 Email: golfreservations@eleagolfclub.com📞 Call: +357 26 202 001
URL:https://eleaestate.com/events/winter-golf-special/
LOCATION:Elea Golf Club\, 1 Eleon Avenue \, Geroskipou\, Paphos\, Cyprus
ATTACH;FMTTYPE=image/png:https://eleaestate.com/wp-content/uploads/2026/01/OPEN-DAY-TOURNAMENT-12-1024x724-1.png
ORGANIZER;CN="Elea Estate":MAILTO:golfmanager@eleagolfclub.com
END:VEVENT
BEGIN:VEVENT
DTSTART;TZID=Europe/Athens:20260424T190000
DTEND;TZID=Europe/Athens:20260424T233000
DTSTAMP:20260423T024936
CREATED:20260317T140326Z
LAST-MODIFIED:20260420T190252Z
UID:8403-1777057200-1777073400@eleaestate.com
SUMMARY:Wine Dinner
DESCRIPTION:A Curated Dining Experience \nAn Exclusive Food & Wine Pairing \nEvening schedule: \nArrival: 18:30 \nDinner: 19:00 \nLive Music: Alexandros Kiourlappos – Violinist \nPlaces are limited — book now.
URL:https://eleaestate.com/events/wine-dinner/
LOCATION:Elea Golf Club\, 1 Eleon Avenue \, Geroskipou\, Paphos\, Cyprus
ATTACH;FMTTYPE=image/jpeg:https://eleaestate.com/wp-content/uploads/2026/03/1_An-Exclusive-Food-Wine-Pairing-1306-x-1763-px.jpg
ORGANIZER;CN="Elea Estate":MAILTO:golfmanager@eleagolfclub.com
END:VEVENT
BEGIN:VEVENT
DTSTART;VALUE=DATE:20260503
DTEND;VALUE=DATE:20260504
DTSTAMP:20260423T024936
CREATED:20260422T094920Z
LAST-MODIFIED:20260422T095036Z
UID:8506-1777766400-1777852799@eleaestate.com
SUMMARY:Spring Fair 2026
DESCRIPTION:Join Elea at May fair for fun\, feel- good day of local creativity and community. \nEvening schedule: \nArrival: 10 AM \nEntertainment all day long!
URL:https://eleaestate.com/events/spring-fair-2026/
LOCATION:Elea Golf Club\, 1 Eleon Avenue \, Geroskipou\, Paphos\, Cyprus
ATTACH;FMTTYPE=image/jpeg:https://eleaestate.com/wp-content/uploads/2026/04/May-Fair-Craft-Market-2-1.jpg
ORGANIZER;CN="Elea Estate":MAILTO:golfmanager@eleagolfclub.com
END:VEVENT
BEGIN:VEVENT
DTSTART;VALUE=DATE:20260515
DTEND;VALUE=DATE:20260516
DTSTAMP:20260423T024936
CREATED:20260422T103818Z
LAST-MODIFIED:20260422T103818Z
UID:8513-1778803200-1778889599@eleaestate.com
SUMMARY:Sporting Greats Series Golf Day 2026 - Anthony Watson
DESCRIPTION:Golf Day with a Former England international and British & Irish Lions Players. \nFriday May 15th 2026 \nCoffee and Bacon rolls on arrival. \nPrizes presentation by Anthony \nTee time available from 7AM to 9 AM  \nPlaces are limited- reserve now at golfreservations@eleagolfclub.com
URL:https://eleaestate.com/events/sporting-greats-series-golf-day-2026-anthony-watson/
LOCATION:Elea Golf Club\, 1 Eleon Avenue \, Geroskipou\, Paphos\, Cyprus
ATTACH;FMTTYPE=image/jpeg:https://eleaestate.com/wp-content/uploads/2026/03/GOLF-Anthony-Watson.jpg
ORGANIZER;CN="Elea Estate":MAILTO:golfmanager@eleagolfclub.com
END:VEVENT
BEGIN:VEVENT
DTSTART;TZID=Europe/Athens:20260516T190000
DTEND;TZID=Europe/Athens:20260516T233000
DTSTAMP:20260423T024936
CREATED:20260301T090218Z
LAST-MODIFIED:20260422T104534Z
UID:8369-1778958000-1778974200@eleaestate.com
SUMMARY:Sporting Greats Series 2026 - Anthony Watson
DESCRIPTION:An evening of exceptional dining\, stories and celebration — the Sporting Greats Series Gala Dinner arrives at Eléa Golf Club on Saturday 16 May 2026. \nWe are delighted to welcome Anthony Watson (former England international and British & Irish Lion) for a premium night at Kalithéa\, featuring a refined sit‑down dinner\, an intimate live Q&A\, and a charity auction — followed by DJ entertainment\, an open bar and dancing. \nEarly Bird (valid until 31 March): \n€90 per person\n€850 table of 10 \nEvening schedule: \nArrival 19:00\, sit down 19:30\nDinner 20:00–21:30\nQ&A + charity auction 21:30 (drinks package ends after Q&A)\nDJ 22:15–00:00 (Open Bar) \nPlaces are limited — Book now.
URL:https://eleaestate.com/events/sporting-greats-series-2026-anthony-watson/
LOCATION:Elea Golf Club\, 1 Eleon Avenue \, Geroskipou\, Paphos\, Cyprus
ATTACH;FMTTYPE=image/png:https://eleaestate.com/wp-content/uploads/2026/03/Anthony-Watson-Gala-dinner-Instagram-Post-45-2.png
ORGANIZER;CN="Elea Estate":MAILTO:golfmanager@eleagolfclub.com
END:VEVENT
END:VCALENDAR